BEGIN:VCALENDAR
VERSION:2.0
PRODID:-//Remedy First Aid Training - ECPv6.15.20//NONSGML v1.0//EN
CALSCALE:GREGORIAN
METHOD:PUBLISH
X-WR-CALNAME:Remedy First Aid Training
X-ORIGINAL-URL:https://remedyfirstaidtraining.com.au
X-WR-CALDESC:Events for Remedy First Aid Training
REFRESH-INTERVAL;VALUE=DURATION:PT1H
X-Robots-Tag:noindex
X-PUBLISHED-TTL:PT1H
BEGIN:VTIMEZONE
TZID:Australia/Melbourne
BEGIN:STANDARD
TZOFFSETFROM:+1100
TZOFFSETTO:+1000
TZNAME:AEST
DTSTART:20250405T160000
END:STANDARD
BEGIN:DAYLIGHT
TZOFFSETFROM:+1000
TZOFFSETTO:+1100
TZNAME:AEDT
DTSTART:20251004T160000
END:DAYLIGHT
BEGIN:STANDARD
TZOFFSETFROM:+1100
TZOFFSETTO:+1000
TZNAME:AEST
DTSTART:20260404T160000
END:STANDARD
BEGIN:DAYLIGHT
TZOFFSETFROM:+1000
TZOFFSETTO:+1100
TZNAME:AEDT
DTSTART:20261003T160000
END:DAYLIGHT
BEGIN:STANDARD
TZOFFSETFROM:+1100
TZOFFSETTO:+1000
TZNAME:AEST
DTSTART:20270403T160000
END:STANDARD
BEGIN:DAYLIGHT
TZOFFSETFROM:+1000
TZOFFSETTO:+1100
TZNAME:AEDT
DTSTART:20271002T160000
END:DAYLIGHT
END:VTIMEZONE
BEGIN:VEVENT
DTSTART;TZID=Australia/Melbourne:20260506T123000
DTEND;TZID=Australia/Melbourne:20260506T130000
DTSTAMP:20260425T013505
CREATED:20260316T003022Z
LAST-MODIFIED:20260317T032215Z
UID:49748-1778070600-1778072400@remedyfirstaidtraining.com.au
SUMMARY:Creating a Supportive School Community with Mental Health First Aid
DESCRIPTION:
URL:https://remedyfirstaidtraining.com.au/session/creating-a-supportive-school-community-with-mental-health-first-aid/
LOCATION:Online
CATEGORIES:Mental Health,Workshops
ATTACH;FMTTYPE=image/png:https://remedyfirstaidtraining.com.au/wp-content/uploads/Create-a-Supportive-School-Community-with-Mental-Health-First-Aid-2.png
ORGANIZER;CN="Remedy First Aid Training":MAILTO:info@remedyfirstaidtraining.com.au
END:VEVENT
BEGIN:VEVENT
DTSTART;TZID=Australia/Melbourne:20260511T093000
DTEND;TZID=Australia/Melbourne:20260511T150000
DTSTAMP:20260425T013505
CREATED:20251208T011230Z
LAST-MODIFIED:20260422T075726Z
UID:49416-1778491800-1778511600@remedyfirstaidtraining.com.au
SUMMARY:Online Mental Health First Aid
DESCRIPTION:Online Mental Health First Aid course delivered in a 100% online format. \nSelf-paced eLearning + 2 x Zoom workshop sessions on the following date: \nMonday\, 11 May at 9:30 AM- 3:00 PM \nCourse includes: \n+ Mental Health First Aid Manual (posted to participant) \n+ Self-Paced eLearning (5-7hours) \n+ Online Workshop (5 hours via Zoom) \n+ Certificate of Accreditation (valid for 3 years) \nRegister now to learn practical first aid skills for mental health. Equip yourself with the tools and learn how to assist adults who are developing a mental health problem\, experiencing a worsening of an existing mental health problem\, or in a mental health crisis\, until appropriate professional help is received or the crisis resolves. This course is based on guidelines developed through the expert consensus of people with lived experience of mental health problems and professionals. Learn the skills to make a difference!
URL:https://remedyfirstaidtraining.com.au/session/online-mental-health-first-aid-10/
LOCATION:Online
CATEGORIES:Mental Health
ATTACH;FMTTYPE=image/png:https://remedyfirstaidtraining.com.au/wp-content/uploads/Online-Mental-Health-First-Aid.png
ORGANIZER;CN="Remedy First Aid Training":MAILTO:info@remedyfirstaidtraining.com.au
END:VEVENT
BEGIN:VEVENT
DTSTART;TZID=Australia/Melbourne:20260520T093000
DTEND;TZID=Australia/Melbourne:20260520T100000
DTSTAMP:20260425T013505
CREATED:20251208T023558Z
LAST-MODIFIED:20260312T003401Z
UID:49463-1779269400-1779271200@remedyfirstaidtraining.com.au
SUMMARY:22578VIC - Course in First Aid Management of Anaphylaxis
DESCRIPTION:
URL:https://remedyfirstaidtraining.com.au/session/22578vic-anaphylaxis-first-aid-course-6/
LOCATION:Mordialloc Neighbourhood House\, 457 Main Street\, Mordialloc\, Vic\, 3195
CATEGORIES:First Aid
ATTACH;FMTTYPE=image/jpeg:https://remedyfirstaidtraining.com.au/wp-content/uploads/210001_019_Colour-1.jpg
ORGANIZER;CN="Remedy First Aid Training":MAILTO:info@remedyfirstaidtraining.com.au
END:VEVENT
BEGIN:VEVENT
DTSTART;TZID=Australia/Melbourne:20260520T100000
DTEND;TZID=Australia/Melbourne:20260520T110000
DTSTAMP:20260425T013505
CREATED:20251208T035557Z
LAST-MODIFIED:20251208T035557Z
UID:49530-1779271200-1779274800@remedyfirstaidtraining.com.au
SUMMARY:HLTAID009 Provide Cardiopulmonary Resuscitation
DESCRIPTION:This course provides participants with the skills and knowledge to effectively perform CPR and apply defibrillation on a casualty who has stopped breathing. Participants will also learn how to manage the unconscious casualty. This course is suitable for those needing a CPR certificate for work purposes\, and anyone interested in learning these lifesaving skills. \nPlease note this is an EXPRESS course and has online learning component which must be completed before attending. \nTraining and assessment delivered on behalf of Allens Training Pty Ltd RTO 90909.
URL:https://remedyfirstaidtraining.com.au/session/hltaid009-cpr-course-13/
LOCATION:Mordialloc Neighbourhood House\, 457 Main Street\, Mordialloc\, Vic\, 3195
CATEGORIES:First Aid
ATTACH;FMTTYPE=image/jpeg:https://remedyfirstaidtraining.com.au/wp-content/uploads/210001_014_Colour-1.jpg
ORGANIZER;CN="Remedy First Aid Training":MAILTO:info@remedyfirstaidtraining.com.au
END:VEVENT
BEGIN:VEVENT
DTSTART;TZID=Australia/Melbourne:20260520T100000
DTEND;TZID=Australia/Melbourne:20260520T124500
DTSTAMP:20260425T013505
CREATED:20251208T041033Z
LAST-MODIFIED:20251208T041033Z
UID:49542-1779271200-1779281100@remedyfirstaidtraining.com.au
SUMMARY:HLTAID011 Provide First Aid
DESCRIPTION:HLTAID011 Provide First Aid will provide participants with the skills and knowledge to effectively provide First Aid and perform CPR to a range of injuries and illnesses. This course includes CPR and is suitable for both the workplace and anyone interested in learning these important life skills \nPlease note this is an EXPRESS course and has an online learning component which must be completed before attending. \nTraining and assessment delivered on behalf of Allens Training Pty Ltd RTO 90909.
URL:https://remedyfirstaidtraining.com.au/session/hltaid011-first-aid-course-6/
LOCATION:Mordialloc Neighbourhood House\, 457 Main Street\, Mordialloc\, Vic\, 3195
CATEGORIES:First Aid
ATTACH;FMTTYPE=image/jpeg:https://remedyfirstaidtraining.com.au/wp-content/uploads/210001_017_Colour-2.jpg
ORGANIZER;CN="Remedy First Aid Training":MAILTO:info@remedyfirstaidtraining.com.au
END:VEVENT
END:VCALENDAR