BEGIN:VCALENDAR
VERSION:2.0
PRODID:-//Remedy First Aid Training - ECPv6.15.20//NONSGML v1.0//EN
CALSCALE:GREGORIAN
METHOD:PUBLISH
X-ORIGINAL-URL:https://remedyfirstaidtraining.com.au
X-WR-CALDESC:Events for Remedy First Aid Training
REFRESH-INTERVAL;VALUE=DURATION:PT1H
X-Robots-Tag:noindex
X-PUBLISHED-TTL:PT1H
BEGIN:VTIMEZONE
TZID:Australia/Melbourne
BEGIN:STANDARD
TZOFFSETFROM:+1100
TZOFFSETTO:+1000
TZNAME:AEST
DTSTART:20240406T160000
END:STANDARD
BEGIN:DAYLIGHT
TZOFFSETFROM:+1000
TZOFFSETTO:+1100
TZNAME:AEDT
DTSTART:20241005T160000
END:DAYLIGHT
BEGIN:STANDARD
TZOFFSETFROM:+1100
TZOFFSETTO:+1000
TZNAME:AEST
DTSTART:20250405T160000
END:STANDARD
BEGIN:DAYLIGHT
TZOFFSETFROM:+1000
TZOFFSETTO:+1100
TZNAME:AEDT
DTSTART:20251004T160000
END:DAYLIGHT
BEGIN:STANDARD
TZOFFSETFROM:+1100
TZOFFSETTO:+1000
TZNAME:AEST
DTSTART:20260404T160000
END:STANDARD
BEGIN:DAYLIGHT
TZOFFSETFROM:+1000
TZOFFSETTO:+1100
TZNAME:AEDT
DTSTART:20261003T160000
END:DAYLIGHT
END:VTIMEZONE
BEGIN:VEVENT
DTSTART;TZID=Australia/Melbourne:20251120T093000
DTEND;TZID=Australia/Melbourne:20251120T143000
DTSTAMP:20260421T051236
CREATED:20250317T020849Z
LAST-MODIFIED:20251110T053828Z
UID:48603-1763631000-1763649000@remedyfirstaidtraining.com.au
SUMMARY:Online Mental Health First Aid Refresher
DESCRIPTION:This MHFA Refresher Course is a 5 hour online course that allows people who have previously completed the Standard MHFA course to refresh their knowledge and skills. For people who are accredited MHFA Aiders\, this course offers an opportunity to extend their accreditation for a further 3 years. \nThursday 20th November: 9:30AM-2:30:PM \nRegister now to update you MHFAider accreditation and: \n+ Gain an understanding of the latest research in the mental health field \n+ Learn the 3 key actions for helping someone feeling suicidal \n+ Work through complex health first aid interactions \n+ Practice mental health first aid skills
URL:https://remedyfirstaidtraining.com.au/session/online-mental-health-first-aid-refresher-9/
LOCATION:Online
CATEGORIES:Mental Health
ATTACH;FMTTYPE=image/png:https://remedyfirstaidtraining.com.au/wp-content/uploads/Screenshot-2024-07-01-162856.png
ORGANIZER;CN="Remedy First Aid Training":MAILTO:info@remedyfirstaidtraining.com.au
END:VEVENT
BEGIN:VEVENT
DTSTART;TZID=Australia/Melbourne:20251125T093000
DTEND;TZID=Australia/Melbourne:20251125T150000
DTSTAMP:20260421T051236
CREATED:20250304T054154Z
LAST-MODIFIED:20251028T042153Z
UID:48286-1764063000-1764082800@remedyfirstaidtraining.com.au
SUMMARY:Online Mental Health First Aid
DESCRIPTION:Online Mental Health First Aid course delivered in a 100% online format. \nSelf-paced eLearning + 2 x Zoom workshop sessions on the following date: \nTuesday\, 25th November 9:30 AM- 3:00 PM \nCourse includes: \n+ Mental Health First Aid Manual (posted to participant) \n+ Self-Paced eLearning (5-7hours) \n+ Online Workshop #1 (2.5 hours\, via Zoom) \n+ Online Workshop #2 (2.5 hours\, via Zoom) \n+ Certificate of Accreditation (valid for 3 years) \nRegister now to learn practical first aid skills for mental health. Equip yourself with the tools and learn how to assist adults who are developing a mental health problem\, experiencing a worsening of an existing mental health problem\, or in a mental health crisis\, until appropriate professional help is received or the crisis resolves. This course is based on guidelines developed through the expert consensus of people with lived experience of mental health problems and professionals. Learn the skills to make a difference!
URL:https://remedyfirstaidtraining.com.au/session/online-mental-health-first-aid-13/
LOCATION:Online
CATEGORIES:Mental Health
ATTACH;FMTTYPE=image/png:https://remedyfirstaidtraining.com.au/wp-content/uploads/Online-Mental-Health-First-Aid.png
ORGANIZER;CN="Remedy First Aid Training":MAILTO:info@remedyfirstaidtraining.com.au
END:VEVENT
END:VCALENDAR